BEGIN:VCALENDAR
VERSION:2.0
PRODID:-//Tukios.com/
BEGIN:VEVENT
UID:e4d35f8c-3821-4b94-8767-14b4bd26f325@www.andreasons.com
DTSTAMP:20260419T213337Z
DTSTART:20260425T190000Z
DTEND:20260425T220000Z
SUMMARY:Celebration of Life
DESCRIPTION:
URL:https://www.andreasons.com/obituaries/susan-lathrop
LOCATION:Andreason's Cremation & Burial Service 320 6th St  Springfield 
	OR 97477
GEO:44.0482475;-123.018594
END:VEVENT
END:VCALENDAR